BEGIN:VCALENDAR
BEGIN:VEVENT
SUMMARY:Select Committee Statement - Select Committee Statement on the Fif
 th Report of the Housing\, Communities and Local Government Committee\, Ho
 using conditions in temporary accommodation\, HC 1831
DTSTART;VALUE=DATE:20260423
DTEND;VALUE=DATE:20260424
DESCRIPTION:MP: Florence Eshalomi (LAB - Vauxhall and Camberwell Green). V
 iew Source: <a href="https://whatson.parliament.uk/commons/2026-04-23/"> h
 ttps://whatson.parliament.uk/commons/2026-04-23/</a>. 
LOCATION:Commons: Main Chamber
END:VEVENT
END:VCALENDAR
