BEGIN:VCALENDAR
BEGIN:VEVENT
SUMMARY:Ministerial statement - Recent Antisemitic Attacks
DTSTART;VALUE=DATE:20260420
DTEND;VALUE=DATE:20260421
DESCRIPTION:MP: Dan Jarvis (Lab - Barnsley North). Department: Cabinet Off
 ice. View Source: <a href="https://whatson.parliament.uk/commons/2026-04-2
 0/"> https://whatson.parliament.uk/commons/2026-04-20/</a>. 
LOCATION:Commons: Main Chamber
END:VEVENT
END:VCALENDAR
