BEGIN:VCALENDAR
BEGIN:VEVENT
SUMMARY:Built Environment Committee - \nOral evidence - Young People and t
 he Built Environment
DTSTART;TZID=Europe/London:20260428T103000
DTEND;TZID=Europe/London:20260428T120000
DESCRIPTION:Select Committee: Built Environment Committee. View Source: <a
  href="https://whatson.parliament.uk/committees/2026-04-28"> https://whats
 on.parliament.uk/committees/2026-04-28</a>. 
LOCATION:Lords: TBC
END:VEVENT
END:VCALENDAR
