BEGIN:VCALENDAR
BEGIN:VEVENT
SUMMARY:Human Rights (Joint Committee) - \nPrivate Meeting
DTSTART;TZID=Europe/London:20260429T140000
DTEND;TZID=Europe/London:20260429T153000
DESCRIPTION:Select Committee: Human Rights (Joint Committee). View Source:
  <a href="https://whatson.parliament.uk/committees/2026-04-29"> https://wh
 atson.parliament.uk/committees/2026-04-29</a>. 
LOCATION:None: Room 4\, Palace of Westminster
END:VEVENT
END:VCALENDAR
