BEGIN:VCALENDAR
BEGIN:VEVENT
SUMMARY:Emergency Debate - Government accountability to the House in conne
 ction to the appointment of Peter Mandelson as Ambassador to the United St
 ates of America
DTSTART;VALUE=DATE:20260421
DTEND;VALUE=DATE:20260422
DESCRIPTION:MP: Kemi Badenoch (Con - North West Essex). View Source: <a hr
 ef="https://whatson.parliament.uk/commons/2026-04-21/"> https://whatson.pa
 rliament.uk/commons/2026-04-21/</a>. 
LOCATION:Commons: Main Chamber
END:VEVENT
END:VCALENDAR
