BEGIN:VCALENDAR
BEGIN:VEVENT
SUMMARY:Motion - Electoral Commission
DTSTART;VALUE=DATE:20260421
DTEND;VALUE=DATE:20260422
DESCRIPTION:MP: Alan Campbell (Lab - Tynemouth). Department: Leader of the
  House. View Source: <a href="https://whatson.parliament.uk/commons/2026-0
 4-21/"> https://whatson.parliament.uk/commons/2026-04-21/</a>. 
LOCATION:Commons: Main Chamber
END:VEVENT
END:VCALENDAR
