BEGIN:VCALENDAR
BEGIN:VEVENT
SUMMARY:Energy Security and Net Zero Committee - \nOral evidence - Revisit
 ing the nuclear roadmap
DTSTART;TZID=Europe/London:20260427T153000
DTEND;TZID=Europe/London:20260427T170000
DESCRIPTION:Select Committee: Energy Security and Net Zero Committee. At 4
 :00pm: Oral evidenceLord Vallance - Minister for Science\, Innovation\, Re
 search and Nuclear at Department for Energy Security and Net Zero. View So
 urce: <a href="https://whatson.parliament.uk/committees/2026-04-27"> https
 ://whatson.parliament.uk/committees/2026-04-27</a>. 
LOCATION:Commons: TBC
END:VEVENT
END:VCALENDAR
