BEGIN:VCALENDAR
BEGIN:VEVENT
SUMMARY:Procedure Committee - \nOral evidence - Written Parliamentary Ques
 tions
DTSTART;TZID=Europe/London:20260429T143000
DTEND;TZID=Europe/London:20260429T160000
DESCRIPTION:Select Committee: Procedure Committee. At 2:45pm: Oral evidenc
 eSeamus Logan MPAt 3:00pm: Oral evidenceJames McMurdock MPAt 3:15pm: Oral 
 evidenceCharlie Dewhirst MPAt 3:30pm: Oral evidenceEdward Morello MPAt 3:4
 5pm: Oral evidenceTessa Munt MPAt 4:00pm: Oral evidenceMartin Wrigley MPAt
  4:15pm: Oral evidenceNeil Duncan-Jordan MP. View Source: <a href="https:/
 /whatson.parliament.uk/committees/2026-04-29"> https://whatson.parliament.
 uk/committees/2026-04-29</a>. 
LOCATION:Commons: TBC
END:VEVENT
END:VCALENDAR
