BEGIN:VCALENDAR
BEGIN:VEVENT
SUMMARY:Delegated Powers and Regulatory Reform Committee - \nPrivate Meeti
 ng
DTSTART;TZID=Europe/London:20260422T103000
DTEND;TZID=Europe/London:20260422T120000
DESCRIPTION:Select Committee: Delegated Powers and Regulatory Reform Commi
 ttee. View Source: <a href="https://whatson.parliament.uk/committees/2026-
 04-22"> https://whatson.parliament.uk/committees/2026-04-22</a>. 
LOCATION:Lords: Room 3A\, Palace of Westminster
END:VEVENT
END:VCALENDAR
