BEGIN:VCALENDAR
BEGIN:VEVENT
SUMMARY:Ministerial statement - Middle East - Economic Update 
DTSTART;VALUE=DATE:20260421
DTEND;VALUE=DATE:20260422
DESCRIPTION:MP: Rachel Reeves (Lab - Leeds West and Pudsey). Department: H
 M Treasury. View Source: <a href="https://whatson.parliament.uk/commons/20
 26-04-21/"> https://whatson.parliament.uk/commons/2026-04-21/</a>. 
LOCATION:Commons: Main Chamber
END:VEVENT
END:VCALENDAR
