BEGIN:VCALENDAR
BEGIN:VEVENT
SUMMARY:Constitution Committee - \nPrivate Meeting
DTSTART;TZID=Europe/London:20260520T101500
DTEND;TZID=Europe/London:20260520T114500
DESCRIPTION:Select Committee: Constitution Committee. View Source: <a href
 ="https://whatson.parliament.uk/committees/2026-05-20"> https://whatson.pa
 rliament.uk/committees/2026-05-20</a>. 
LOCATION:Lords: To be confirmed
END:VEVENT
END:VCALENDAR
