BEGIN:VCALENDAR
BEGIN:VEVENT
SUMMARY:Environment\, Food and Rural Affairs Committee - \nOral evidence -
  Work of the Department and its arm’s-length bodies
DTSTART;TZID=Europe/London:20260428T093000
DTEND;TZID=Europe/London:20260428T110000
DESCRIPTION:Select Committee: Environment\, Food and Rural Affairs Committ
 ee. View Source: <a href="https://whatson.parliament.uk/committees/2026-04
 -28"> https://whatson.parliament.uk/committees/2026-04-28</a>. 
LOCATION:Commons: TBC
END:VEVENT
END:VCALENDAR
