BEGIN:VCALENDAR
BEGIN:VEVENT
SUMMARY:Retirement and Participation Committee - \nPrivate Meeting
DTSTART;TZID=Europe/London:20260428T103000
DTEND;TZID=Europe/London:20260428T120000
DESCRIPTION:Select Committee: Retirement and Participation Committee. View
  Source: <a href="https://whatson.parliament.uk/committees/2026-04-28"> ht
 tps://whatson.parliament.uk/committees/2026-04-28</a>. 
LOCATION:Lords: To be confirmed
END:VEVENT
END:VCALENDAR
