BEGIN:VCALENDAR
BEGIN:VEVENT
SUMMARY:Oral questions - Office for National Statistics labour market data
  published on 21 April\, and steps o address rising economic inactivity an
 d falling vacancies
DTSTART;VALUE=DATE:20260423
DTEND;VALUE=DATE:20260424
DESCRIPTION:MP: Lord Hunt of Wirral (Con - Life peer). View Source: <a hre
 f="https://whatson.parliament.uk/lords/2026-04-23/"> https://whatson.parli
 ament.uk/lords/2026-04-23/</a>. 
LOCATION:Lords: Main Chamber
END:VEVENT
END:VCALENDAR
