BEGIN:VCALENDAR
BEGIN:VEVENT
SUMMARY:Second Delegated Legislation Committee - \nDebate - The draft Warm
  Home Discount (Scotland) Regulations 2026
DTSTART;TZID=Europe/London:20260427T180000
DTEND;TZID=Europe/London:20260427T193000
DESCRIPTION:Department: Department for Energy Security & Net Zero. Seconda
 ry Legislation: Warm Home Discount (Scotland) Regulations 2026. Select Com
 mittee: Second Delegated Legislation Committee. View Source: <a href="http
 s://whatson.parliament.uk/committees/2026-04-27"> https://whatson.parliame
 nt.uk/committees/2026-04-27</a>. 
LOCATION:Commons: Room 11\, Palace of Westminster
END:VEVENT
END:VCALENDAR
