BEGIN:VCALENDAR
BEGIN:VEVENT
SUMMARY:Westminster Hall debate - Government support for agriculture 
DTSTART;TZID=Europe/London:20260429T110000
DTEND;TZID=Europe/London:20260429T123000
DESCRIPTION:MP: Richard Foord (LD - Honiton and Sidmouth). View Source: <a
  href="https://whatson.parliament.uk/commons/2026-04-29/"> https://whatson
 .parliament.uk/commons/2026-04-29/</a>. 
LOCATION:Commons: Westminster Hall
END:VEVENT
END:VCALENDAR
