BEGIN:VCALENDAR
BEGIN:VEVENT
SUMMARY:Westminster Hall debate - Government support for children developi
 ng essential skills 
DTSTART;TZID=Europe/London:20260429T143000
DTEND;TZID=Europe/London:20260429T160000
DESCRIPTION:MP: Peter Swallow (Lab - Bracknell). View Source: <a href="htt
 ps://whatson.parliament.uk/commons/2026-04-29/"> https://whatson.parliamen
 t.uk/commons/2026-04-29/</a>. 
LOCATION:Commons: Westminster Hall
END:VEVENT
END:VCALENDAR
