BEGIN:VCALENDAR
BEGIN:VEVENT
SUMMARY:Westminster Hall debate - Government support for human rights in B
 urma
DTSTART;TZID=Europe/London:20260429T160000
DTEND;TZID=Europe/London:20260429T173000
DESCRIPTION:MP: Rushanara Ali (Lab - Bethnal Green and Stepney). View Sour
 ce: <a href="https://whatson.parliament.uk/commons/2026-04-29/"> https://w
 hatson.parliament.uk/commons/2026-04-29/</a>. 
LOCATION:Commons: Westminster Hall
END:VEVENT
END:VCALENDAR
