BEGIN:VCALENDAR
BEGIN:VEVENT
SUMMARY:Westminster Hall debate - International parental child abduction
DTSTART;TZID=Europe/London:20260428T143000
DTEND;TZID=Europe/London:20260428T160000
DESCRIPTION:MP: Rachel Gilmour (LD - Tiverton and Minehead). View Source: 
 <a href="https://whatson.parliament.uk/commons/2026-04-28/"> https://whats
 on.parliament.uk/commons/2026-04-28/</a>. 
LOCATION:Commons: Westminster Hall
END:VEVENT
END:VCALENDAR
