BEGIN:VCALENDAR
BEGIN:VEVENT
SUMMARY:Westminster Hall debate - Funding for fire and rescue services 
DTSTART;TZID=Europe/London:20260428T160000
DTEND;TZID=Europe/London:20260428T173000
DESCRIPTION:MP: Matt Vickers (Con - Stockton West). View Source: <a href="
 https://whatson.parliament.uk/commons/2026-04-28/"> https://whatson.parlia
 ment.uk/commons/2026-04-28/</a>. 
LOCATION:Commons: Westminster Hall
END:VEVENT
END:VCALENDAR
