BEGIN:VCALENDAR
BEGIN:VEVENT
SUMMARY:Parliamentary Works Estimates Commission - \nPrivate Meeting
DTSTART;TZID=Europe/London:20260423T141500
DTEND;TZID=Europe/London:20260423T154500
DESCRIPTION:Select Committee: Parliamentary Works Estimates Commission Com
 mittee. View Source: <a href="https://whatson.parliament.uk/committees/202
 6-04-23"> https://whatson.parliament.uk/committees/2026-04-23</a>. 
LOCATION:None: Chairman of Ways and Means' Conference Room
END:VEVENT
END:VCALENDAR
