BEGIN:VCALENDAR
BEGIN:VEVENT
SUMMARY:Parliamentary Works Estimates Commission - \nOral evidence - Parli
 amentary Works Grant Main Estimate 2026/27
DTSTART;TZID=Europe/London:20260429T153000
DTEND;TZID=Europe/London:20260429T170000
DESCRIPTION:Select Committee: Parliamentary Works Estimates Commission Com
 mittee. At 3:40pm: Oral evidenceTom Goldsmith - Clerk of the House of Comm
 ons at House of CommonsChloe Mawson OBE - Clerk of the Parliaments at Hous
 e of LordsRuss MacMillan - Chief Executive at Palace of Westminster Restor
 ation and Renewal Delivery AuthorityCharlotte Simmonds - Managing Director
  at Restoration and Renewal Client Team. View Source: <a href="https://wha
 tson.parliament.uk/committees/2026-04-29"> https://whatson.parliament.uk/c
 ommittees/2026-04-29</a>. 
LOCATION:None: Room 15\, Palace of Westminster
END:VEVENT
END:VCALENDAR
