BEGIN:VCALENDAR
BEGIN:VEVENT
SUMMARY:Science\, Innovation and Technology Committee - \nPrivate Meeting
DTSTART;TZID=Europe/London:20260429T090000
DTEND;TZID=Europe/London:20260429T103000
DESCRIPTION:Select Committee: Science\, Innovation and Technology Committe
 e. View Source: <a href="https://whatson.parliament.uk/committees/2026-04-
 29"> https://whatson.parliament.uk/committees/2026-04-29</a>. 
LOCATION:Commons: TBC
END:VEVENT
END:VCALENDAR
