BEGIN:VCALENDAR
BEGIN:VEVENT
SUMMARY:Public Administration and Constitutional Affairs Committee - \nPri
 vate Meeting
DTSTART;TZID=Europe/London:20260428T093000
DTEND;TZID=Europe/London:20260428T110000
DESCRIPTION:Select Committee: Public Administration and Constitutional Aff
 airs Committee. View Source: <a href="https://whatson.parliament.uk/commit
 tees/2026-04-28"> https://whatson.parliament.uk/committees/2026-04-28</a>.
  
LOCATION:Commons: TBC
END:VEVENT
END:VCALENDAR
