BEGIN:VCALENDAR
BEGIN:VEVENT
SUMMARY:Urgent question - To ask the Minister for the Cabinet Office if he
  will make a statement on modernising public procurement
DTSTART;VALUE=DATE:20260422
DTEND;VALUE=DATE:20260423
DESCRIPTION:MP: Leigh Ingham (Lab - Stafford). View Source: <a href="https
 ://whatson.parliament.uk/commons/2026-04-22/"> https://whatson.parliament.
 uk/commons/2026-04-22/</a>. 
LOCATION:Commons: Main Chamber
END:VEVENT
END:VCALENDAR
