BEGIN:VCALENDAR
BEGIN:VEVENT
SUMMARY:Ministerial statement - Status of current pension schemes 
DTSTART;VALUE=DATE:20260422
DTEND;VALUE=DATE:20260423
DESCRIPTION:MP: Nick Thomas-Symonds (Lab - Torfaen). Department: Cabinet O
 ffice. View Source: <a href="https://whatson.parliament.uk/commons/2026-04
 -22/"> https://whatson.parliament.uk/commons/2026-04-22/</a>. 
LOCATION:Commons: Main Chamber
END:VEVENT
END:VCALENDAR
