BEGIN:VCALENDAR
BEGIN:VEVENT
SUMMARY:Culture\, Media and Sport Committee - \nPrivate Meeting
DTSTART;TZID=Europe/London:20260428T142500
DTEND;TZID=Europe/London:20260428T155500
DESCRIPTION:Select Committee: Culture\, Media and Sport Committee. View So
 urce: <a href="https://whatson.parliament.uk/committees/2026-04-28"> https
 ://whatson.parliament.uk/committees/2026-04-28</a>. 
LOCATION:Commons: TBC
END:VEVENT
END:VCALENDAR
