BEGIN:VCALENDAR
BEGIN:VEVENT
SUMMARY:Estimated rising time - The House is expected to rise at the concl
 usion of consideration of Commons reasons and / or amendments on the Pensi
 ons Schemes Bill
DTSTART;VALUE=DATE:20260422
DTEND;VALUE=DATE:20260423
DESCRIPTION:View Source: <a href="https://whatson.parliament.uk/lords/2026
 -04-22/"> https://whatson.parliament.uk/lords/2026-04-22/</a>. 
LOCATION:Lords: Main Chamber
END:VEVENT
END:VCALENDAR
