BEGIN:VCALENDAR
BEGIN:VEVENT
SUMMARY:Environment and Climate Change Committee - \nPrivate Meeting
DTSTART;TZID=Europe/London:20260427T134500
DTEND;TZID=Europe/London:20260427T151500
DESCRIPTION:Select Committee: Environment and Climate Change Committee. Vi
 ew Source: <a href="https://whatson.parliament.uk/committees/2026-04-27"> 
 https://whatson.parliament.uk/committees/2026-04-27</a>. 
LOCATION:Lords: To be confirmed
END:VEVENT
END:VCALENDAR
