BEGIN:VCALENDAR
BEGIN:VEVENT
SUMMARY:Health and Social Care Committee - \nPrivate Meeting
DTSTART;TZID=Europe/London:20260428T131500
DTEND;TZID=Europe/London:20260428T144500
DESCRIPTION:Select Committee: Health and Social Care Committee. View Sourc
 e: <a href="https://whatson.parliament.uk/committees/2026-04-28"> https://
 whatson.parliament.uk/committees/2026-04-28</a>. 
LOCATION:Commons: Room 15\, Palace of Westminster
END:VEVENT
END:VCALENDAR
