BEGIN:VCALENDAR
BEGIN:VEVENT
SUMMARY:Ministerial statement - Research institution protocol 
DTSTART;VALUE=DATE:20260423
DTEND;VALUE=DATE:20260424
DESCRIPTION:MP: Ian Murray (Lab - Edinburgh South). Department: Department
  for Science\, Innovation & Technology. View Source: <a href="https://what
 son.parliament.uk/commons/2026-04-23/"> https://whatson.parliament.uk/comm
 ons/2026-04-23/</a>. 
LOCATION:Commons: Main Chamber
END:VEVENT
END:VCALENDAR
