BEGIN:VCALENDAR
BEGIN:VEVENT
SUMMARY:Home Affairs Committee - \nOral evidence - Violence Against Women 
 and Girls strategy update
DTSTART;TZID=Europe/London:20260428T140000
DTEND;TZID=Europe/London:20260428T153000
DESCRIPTION:Select Committee: Home Affairs Committee. View Source: <a href
 ="https://whatson.parliament.uk/committees/2026-04-28"> https://whatson.pa
 rliament.uk/committees/2026-04-28</a>. 
LOCATION:Commons: The Thatcher Room\, Portcullis House
END:VEVENT
END:VCALENDAR
