BEGIN:VCALENDAR
BEGIN:VEVENT
SUMMARY:Adjournment - Health and social care in Hertfordshire
DTSTART;TZID=Europe/London:20260430T170000
DTEND;TZID=Europe/London:20260430T173000
DESCRIPTION:MP: Matt Turmaine (Lab - Watford). View Source: <a href="https
 ://whatson.parliament.uk/commons/2026-04-30/"> https://whatson.parliament.
 uk/commons/2026-04-30/</a>. 
LOCATION:Commons: Main Chamber
END:VEVENT
END:VCALENDAR
