BEGIN:VCALENDAR
BEGIN:VEVENT
SUMMARY:Adjournment - Impact of HS2 on communities 
DTSTART;TZID=Europe/London:20260429T190000
DTEND;TZID=Europe/London:20260429T193000
DESCRIPTION:MP: Joy Morrissey (Con - Beaconsfield). View Source: <a href="
 https://whatson.parliament.uk/commons/2026-04-29/"> https://whatson.parlia
 ment.uk/commons/2026-04-29/</a>. 
LOCATION:Commons: Main Chamber
END:VEVENT
END:VCALENDAR
