BEGIN:VCALENDAR
BEGIN:VEVENT
SUMMARY:Adjournment - Houses in multiple occupation 
DTSTART;TZID=Europe/London:20260428T190000
DTEND;TZID=Europe/London:20260428T193000
DESCRIPTION:MP: Lee Anderson (RUK - Ashfield). View Source: <a href="https
 ://whatson.parliament.uk/commons/2026-04-28/"> https://whatson.parliament.
 uk/commons/2026-04-28/</a>. 
LOCATION:Commons: Main Chamber
END:VEVENT
END:VCALENDAR
