BEGIN:VCALENDAR
BEGIN:VEVENT
SUMMARY:Consideration of Lords message - Consideration of Lords messages
DTSTART;VALUE=DATE:20260430
DTEND;VALUE=DATE:20260501
DESCRIPTION:View Source: <a href="https://whatson.parliament.uk/commons/20
 26-04-30/"> https://whatson.parliament.uk/commons/2026-04-30/</a>. 
LOCATION:Commons: Main Chamber
END:VEVENT
END:VCALENDAR
