BEGIN:VCALENDAR
BEGIN:VEVENT
SUMMARY:Consideration of Lords message - Consideration of Lords message to
  the Children’s Wellbeing and Schools  Bill 
DTSTART;VALUE=DATE:20260427
DTEND;VALUE=DATE:20260428
DESCRIPTION:View Source: <a href="https://whatson.parliament.uk/commons/20
 26-04-27/"> https://whatson.parliament.uk/commons/2026-04-27/</a>. 
LOCATION:Commons: Main Chamber
END:VEVENT
END:VCALENDAR
