BEGIN:VCALENDAR
BEGIN:VEVENT
SUMMARY:House of Lords Commission - \nPrivate Meeting
DTSTART;TZID=Europe/London:20260722T100000
DTEND;TZID=Europe/London:20260722T113000
DESCRIPTION:Select Committee: House of Lords Commission Committee. View So
 urce: <a href="https://whatson.parliament.uk/committees/2026-07-22"> https
 ://whatson.parliament.uk/committees/2026-07-22</a>. 
LOCATION:Lords: Room 1\, Palace of Westminster
END:VEVENT
END:VCALENDAR
