BEGIN:VCALENDAR
BEGIN:VEVENT
SUMMARY:Adjournment - Impact of a third runway at Heathrow Airport 
DTSTART;TZID=Europe/London:20260514T170000
DTEND;TZID=Europe/London:20260514T173000
DESCRIPTION:MP: Sarah Olney (LD - Richmond Park). View Source: <a href="ht
 tps://whatson.parliament.uk/commons/2026-05-14/"> https://whatson.parliame
 nt.uk/commons/2026-05-14/</a>. 
LOCATION:Commons: Main Chamber
END:VEVENT
END:VCALENDAR
