BEGIN:VCALENDAR
BEGIN:VEVENT
SUMMARY:Adjournment - Unadopted roads and public amenities on new developm
 ents 
DTSTART;TZID=Europe/London:20260513T190000
DTEND;TZID=Europe/London:20260513T193000
DESCRIPTION:MP: Alistair Strathern (Lab - Hitchin). View Source: <a href="
 https://whatson.parliament.uk/commons/2026-05-13/"> https://whatson.parlia
 ment.uk/commons/2026-05-13/</a>. 
LOCATION:Commons: Main Chamber
END:VEVENT
END:VCALENDAR
