BEGIN:VCALENDAR
BEGIN:VEVENT
SUMMARY:Adjournment - Audiology services in Doncaster 
DTSTART;TZID=Europe/London:20260518T220000
DTEND;TZID=Europe/London:20260518T223000
DESCRIPTION:MP: Sally Jameson (LAB - Doncaster Central). View Source: <a h
 ref="https://whatson.parliament.uk/commons/2026-05-18/"> https://whatson.p
 arliament.uk/commons/2026-05-18/</a>. 
LOCATION:Commons: Main Chamber
END:VEVENT
END:VCALENDAR
