BEGIN:VCALENDAR
BEGIN:VEVENT
SUMMARY:Motion - Business of the House (Today)
DTSTART;VALUE=DATE:20260427
DTEND;VALUE=DATE:20260428
DESCRIPTION:MP: Alan Campbell (Lab - Tynemouth). Department: Leader of the
  House. View Source: <a href="https://whatson.parliament.uk/commons/2026-0
 4-27/"> https://whatson.parliament.uk/commons/2026-04-27/</a>. 
LOCATION:Commons: Main Chamber
END:VEVENT
END:VCALENDAR
