BEGIN:VCALENDAR
BEGIN:VEVENT
SUMMARY:Modernisation Committee - \nOral evidence - Backbench Business Com
 mittee and Petitions Committee Debates
DTSTART;TZID=Europe/London:20260623T113000
DTEND;TZID=Europe/London:20260623T130000
DESCRIPTION:Select Committee: Modernisation Committee. View Source: <a hre
 f="https://whatson.parliament.uk/committees/2026-06-23"> https://whatson.p
 arliament.uk/committees/2026-06-23</a>. 
LOCATION:Commons: TBC
END:VEVENT
END:VCALENDAR
